BEGIN:VCALENDAR
VERSION:2.0
PRODID:-//EO Tampabay - Accelerate Your Success - ECPv6.15.20//NONSGML v1.0//EN
CALSCALE:GREGORIAN
METHOD:PUBLISH
X-WR-CALNAME:EO Tampabay - Accelerate Your Success
X-ORIGINAL-URL:https://eotampabay.com
X-WR-CALDESC:Events for EO Tampabay - Accelerate Your Success
REFRESH-INTERVAL;VALUE=DURATION:PT1H
X-Robots-Tag:noindex
X-PUBLISHED-TTL:PT1H
BEGIN:VTIMEZONE
TZID:America/New_York
BEGIN:DAYLIGHT
TZOFFSETFROM:-0500
TZOFFSETTO:-0400
TZNAME:EDT
DTSTART:20250309T070000
END:DAYLIGHT
BEGIN:STANDARD
TZOFFSETFROM:-0400
TZOFFSETTO:-0500
TZNAME:EST
DTSTART:20251102T060000
END:STANDARD
BEGIN:DAYLIGHT
TZOFFSETFROM:-0500
TZOFFSETTO:-0400
TZNAME:EDT
DTSTART:20260308T070000
END:DAYLIGHT
BEGIN:STANDARD
TZOFFSETFROM:-0400
TZOFFSETTO:-0500
TZNAME:EST
DTSTART:20261101T060000
END:STANDARD
BEGIN:DAYLIGHT
TZOFFSETFROM:-0500
TZOFFSETTO:-0400
TZNAME:EDT
DTSTART:20270314T070000
END:DAYLIGHT
BEGIN:STANDARD
TZOFFSETFROM:-0400
TZOFFSETTO:-0500
TZNAME:EST
DTSTART:20271107T060000
END:STANDARD
END:VTIMEZONE
BEGIN:VEVENT
DTSTART;TZID=America/New_York:20260430T113000
DTEND;TZID=America/New_York:20260430T140000
DTSTAMP:20260424T103403
CREATED:20260330T164731Z
LAST-MODIFIED:20260330T164731Z
UID:5533-1777548600-1777557600@eotampabay.com
SUMMARY:EO Tampa Bay Lunch and Learn: Confidence on Camera
DESCRIPTION:We are talking confidence on camera! Media experts Ashley Yore and Ashleigh Walters have decades of experience in front of the camera\, on both national and local platforms\, as well as working with businesses to create attention-grabbing content.\n\nWork with these pros in an interactive session covering on-camera interview skills\, tricks for showing up confidently on camera\, roadmaps to creating “sticky” content and how to reach your target media outlets.\n\nBoth Ashley and Ashleigh have received many accolades\, including multiple EMMY awards. Ashleigh Walters received the prestigious Edward R. Murrow award and Ashley Yore received the Society of Professional Journalists Sigma Delta Chi Award.\n\nHigh Level Agenda:\n11:15am – 11:30am Checkin\n11:30am – 1:30 pm – Workshop + Presentation\n1:30pm- 2:00 pm – Lunch
URL:https://eotampabay.com/event/eo-tampa-bay-lunch-and-learn-confidence-on-camera/
LOCATION:Embarc Collective\, 802 E Whiting St\, Tampa\, FL\, 33602\, United States
CATEGORIES:Learning
ATTACH;FMTTYPE=image/png:https://eotampabay.com/wp-content/uploads/2026/03/April-30-2026-EO-Tampa-Bay-Lunch-and-Learn-Confidence-on-Camera-6-1-1.png
END:VEVENT
BEGIN:VEVENT
DTSTART;TZID=America/New_York:20260514T090000
DTEND;TZID=America/New_York:20260514T160000
DTSTAMP:20260424T103403
CREATED:20260218T071144Z
LAST-MODIFIED:20260218T071144Z
UID:5517-1778749200-1778774400@eotampabay.com
SUMMARY:Accelerator Execution Day
DESCRIPTION:Growth companies’ most difficult decisions involve getting the right people in the right seats. Learn how to become a magnet for A-players who are dedicated to results.
URL:https://eotampabay.com/event/accelerator-execution-day/
LOCATION:Embarc Collective\, 802 E Whiting St\, Tampa\, FL\, 33602\, United States
CATEGORIES:Accelerator
ATTACH;FMTTYPE=image/png:https://eotampabay.com/wp-content/uploads/2026/02/41c76dad-8a6c-f011-9761-0050569ee39e.png
END:VEVENT
BEGIN:VEVENT
DTSTART;TZID=America/New_York:20260515T083000
DTEND;TZID=America/New_York:20260515T160000
DTSTAMP:20260424T103403
CREATED:20260226T195858Z
LAST-MODIFIED:20260226T195928Z
UID:5527-1778833800-1778860800@eotampabay.com
SUMMARY:EO Tampa Bay Chapter Retreat
DESCRIPTION:Get ready for a day of connection\, conversation\, and recharge with EO Tampa Bay at our Chapter Retreat in beautiful Sarasota. \nAfter a high-impact day of learning and connection\, we’ll shift into evening mode with cocktails\, dinner\, and time to unwind together in true EO style. Whether you’re catching up with longtime members or making new connections\, this retreat is all about strengthening relationships and having fun while doing it. \nHosted at the Ritz-Carlton\, Sarasota\, you’re invited to turn this into a mini getaway. Stay through the weekend\, enjoy access to the Beach Club\, soak up the sun\, and make the most of time with your EO community both in session and off the clock. \nWhat to expect: \n\nA high-energy Forum MashUp experience\nInteractive\, chapter-wide conversations\nCocktails\, dinner\, and social time\nOptional beachside extension at the Ritz-Carlton Beach Club\n\nCome for the retreat. Stay for the connection. Leave refreshed\, inspired\, and more plugged into EO Tampa Bay than ever.
URL:https://eotampabay.com/event/eo-tampa-bay-chapter-retreat-2026/
LOCATION:The Sarasota Ritz Carlton\, 1111 Ritz-Carlton Drive\, Sarasota\, 34236\, United States
CATEGORIES:Chapter Retreat
ATTACH;FMTTYPE=image/png:https://eotampabay.com/wp-content/uploads/2026/02/EO-Tampa-Bay-Chapter-Retreat.png
END:VEVENT
END:VCALENDAR