BEGIN:VCALENDAR
VERSION:2.0
PRODID:-//EO Tampabay - Accelerate Your Success - ECPv6.15.20//NONSGML v1.0//EN
CALSCALE:GREGORIAN
METHOD:PUBLISH
X-WR-CALNAME:EO Tampabay - Accelerate Your Success
X-ORIGINAL-URL:https://eotampabay.com
X-WR-CALDESC:Events for EO Tampabay - Accelerate Your Success
REFRESH-INTERVAL;VALUE=DURATION:PT1H
X-Robots-Tag:noindex
X-PUBLISHED-TTL:PT1H
BEGIN:VTIMEZONE
TZID:America/New_York
BEGIN:DAYLIGHT
TZOFFSETFROM:-0500
TZOFFSETTO:-0400
TZNAME:EDT
DTSTART:20210314T070000
END:DAYLIGHT
BEGIN:STANDARD
TZOFFSETFROM:-0400
TZOFFSETTO:-0500
TZNAME:EST
DTSTART:20211107T060000
END:STANDARD
BEGIN:DAYLIGHT
TZOFFSETFROM:-0500
TZOFFSETTO:-0400
TZNAME:EDT
DTSTART:20220313T070000
END:DAYLIGHT
BEGIN:STANDARD
TZOFFSETFROM:-0400
TZOFFSETTO:-0500
TZNAME:EST
DTSTART:20221106T060000
END:STANDARD
BEGIN:DAYLIGHT
TZOFFSETFROM:-0500
TZOFFSETTO:-0400
TZNAME:EDT
DTSTART:20230312T070000
END:DAYLIGHT
BEGIN:STANDARD
TZOFFSETFROM:-0400
TZOFFSETTO:-0500
TZNAME:EST
DTSTART:20231105T060000
END:STANDARD
END:VTIMEZONE
BEGIN:VEVENT
DTSTART;TZID=America/New_York:20220901T090000
DTEND;TZID=America/New_York:20220901T110000
DTSTAMP:20260424T211346
CREATED:20220819T024125Z
LAST-MODIFIED:20220819T033434Z
UID:3226-1662022800-1662030000@eotampabay.com
SUMMARY:Simply Speaking! SAP Pitch Practice - Date Option 1
DESCRIPTION:[et_pb_section fb_built=”1″ _builder_version=”4.16″ _module_preset=”default” background_enable_color=”off” width=”100%” custom_margin=”|0px|||false|false” custom_padding=”10px|70px||10px|false|false” global_colors_info=”{}”][et_pb_row custom_padding_last_edited=”on|desktop” _builder_version=”4.16″ _module_preset=”default” background_enable_color=”off” width=”100%” custom_margin=”|auto||0px|false|false” custom_padding=”0px|||0px|false|false” custom_padding_tablet=”|||5px|false|false” custom_padding_phone=”” global_colors_info=”{}”][et_pb_column type=”4_4″ _builder_version=”4.16″ _module_preset=”default” global_colors_info=”{}”][et_pb_text admin_label=”EVENT INFO AND REGISTRATION LINK & FEATURED IMAGE 960 X 540 – SELECT CATEGORY” _builder_version=”4.18.0″ _module_preset=”default” header_2_line_height=”105%” custom_padding=”|5px||0px|false|false” custom_padding_tablet=”” custom_padding_phone=”” custom_padding_last_edited=”on|tablet” header_2_line_height_tablet=”105%” header_2_line_height_phone=”105%” header_2_line_height_last_edited=”on|phone” global_colors_info=”{}”] \nSimply Speaking! SAP Pitch Practice\nSeptember 1st 2022Time: 9:00 AM EST.Venue: Zoom \nThe way you present yourself and your ideas is critical to your success. EO Atlanta is proud to offer two “Simply Speaking! The No-Sweat Way to Deliver High-Impact Presentations” workshops to help our SAP’s shine in the spotlight\, whether you’re introducing yourself and your business to EO members or other potential clients. \nCLICK HERE TO REGISTER \nVIEW EVENT WEBSITE \n[/et_pb_text][et_pb_text admin_label=”FILL IN EVENTS SECTION BELOW” _builder_version=”4.16″ _module_preset=”default” locked=”on” global_colors_info=”{}”][/et_pb_text][et_pb_text admin_label=”ADD SAME EVENT INFO & REGISTRATION LINK TO EXCERPT BELOW & CHECK HEADER DISPLAY SIZE” _builder_version=”4.16″ _module_preset=”default” locked=”on” global_colors_info=”{}”][/et_pb_text][/et_pb_column][/et_pb_row][/et_pb_section]
URL:https://eotampabay.com/event/simply-speaking-sap-pitch-practice-date-option-1/
LOCATION:Virtual
CATEGORIES:Learning,Virtual,Zoom
ATTACH;FMTTYPE=image/png:https://eotampabay.com/wp-content/uploads/2020/08/eo_logo-primary-rgb.png
END:VEVENT
BEGIN:VEVENT
DTSTART;TZID=America/New_York:20220715T100000
DTEND;TZID=America/New_York:20220715T110000
DTSTAMP:20260424T211346
CREATED:20210719T225619Z
LAST-MODIFIED:20220622T205539Z
UID:1594-1657879200-1657882800@eotampabay.com
SUMMARY:EO Exchange- Systemize & Scale by Documenting What You Do
DESCRIPTION:[et_pb_section fb_built=”1″ _builder_version=”4.16″ _module_preset=”default” background_enable_color=”off” width=”100%” custom_margin=”|0px|||false|false” custom_padding=”10px|70px||10px|false|false” global_colors_info=”{}”][et_pb_row custom_padding_last_edited=”on|desktop” _builder_version=”4.16″ _module_preset=”default” background_enable_color=”off” width=”100%” custom_margin=”|auto||0px|false|false” custom_padding=”0px|||0px|false|false” custom_padding_tablet=”|||5px|false|false” custom_padding_phone=”” global_colors_info=”{}”][et_pb_column type=”4_4″ _builder_version=”4.16″ _module_preset=”default” global_colors_info=”{}”][et_pb_text admin_label=”EVENT INFO AND REGISTRATION LINK & FEATURED IMAGE 960 X 540 – SELECT CATEGORY” _builder_version=”4.17.4″ _module_preset=”default” header_2_line_height=”105%” custom_padding=”|5px||0px|false|false” custom_padding_tablet=”” custom_padding_phone=”” custom_padding_last_edited=”on|tablet” header_2_line_height_tablet=”105%” header_2_line_height_phone=”105%” header_2_line_height_last_edited=”on|phone” global_colors_info=”{}”] \nEO Exchange- Systemize & Scale by Documenting What You Do\n15 July 2022 09:00 AM (GMT-06:00) Central Time (US & Canada) \nVenue: Virtual-Zoom \nLocation: Tennessee\, United States \nEO Exchange- Systemize & Scale by Documenting What You Do \nREGISTER: CLICK HERE \n[/et_pb_text][et_pb_text admin_label=”FILL IN EVENTS SECTION BELOW” _builder_version=”4.16″ _module_preset=”default” locked=”on” global_colors_info=”{}”][/et_pb_text][et_pb_text admin_label=”ADD SAME EVENT INFO & REGISTRATION LINK TO EXCERPT BELOW & CHECK HEADER DISPLAY SIZE” _builder_version=”4.16″ _module_preset=”default” locked=”on” global_colors_info=”{}”][/et_pb_text][/et_pb_column][/et_pb_row][/et_pb_section]
URL:https://eotampabay.com/event/eo-exchange-systemize-scale-by-documenting-what-you-do/
LOCATION:Virtual
CATEGORIES:Virtual,Zoom
ATTACH;FMTTYPE=image/jpeg:https://eotampabay.com/wp-content/uploads/2021/07/EO-Exchange-.jpeg
END:VEVENT
BEGIN:VEVENT
DTSTART;TZID=America/New_York:20220714T120000
DTEND;TZID=America/New_York:20220714T140000
DTSTAMP:20260424T211346
CREATED:20220622T202152Z
LAST-MODIFIED:20220622T202155Z
UID:3015-1657800000-1657807200@eotampabay.com
SUMMARY:How to write a Book without Lifting a Finger
DESCRIPTION:[et_pb_section fb_built=”1″ _builder_version=”4.16″ _module_preset=”default” background_enable_color=”off” width=”100%” custom_margin=”|0px|||false|false” custom_padding=”10px|70px||10px|false|false” global_colors_info=”{}”][et_pb_row custom_padding_last_edited=”on|desktop” _builder_version=”4.16″ _module_preset=”default” background_enable_color=”off” width=”100%” custom_margin=”|auto||0px|false|false” custom_padding=”0px|||0px|false|false” custom_padding_tablet=”|||5px|false|false” custom_padding_phone=”” global_colors_info=”{}”][et_pb_column type=”4_4″ _builder_version=”4.16″ _module_preset=”default” global_colors_info=”{}”][et_pb_text admin_label=”EVENT INFO AND REGISTRATION LINK & FEATURED IMAGE 960 X 540 – SELECT CATEGORY” _builder_version=”4.17.4″ _module_preset=”default” header_2_line_height=”105%” custom_padding=”|5px||0px|false|false” custom_padding_tablet=”” custom_padding_phone=”” custom_padding_last_edited=”on|tablet” hover_enabled=”0″ header_2_line_height_tablet=”105%” header_2_line_height_phone=”105%” header_2_line_height_last_edited=”on|phone” global_colors_info=”{}” sticky_enabled=”0″] \nHow to write a Book without Lifting a Finger\nJuly 14\, 2022 10:00 AM (GMT-07:00) Mountain Time (US & Canada \nVenue: Virtual-Zoom details will be sent out prior to the event \nLocation: United States \nAny way you cut it\, writing a book is a big commitment in time and resources. Most business owners can’t afford to take a six-month sabbatical by the sea to start pounding on a keyboard. Join this virtual event to see if a collaborator is right for you. \nREGISTER: CLICK HERE \n[/et_pb_text][et_pb_text admin_label=”FILL IN EVENTS SECTION BELOW” _builder_version=”4.16″ _module_preset=”default” locked=”on” global_colors_info=”{}”][/et_pb_text][et_pb_text admin_label=”ADD SAME EVENT INFO & REGISTRATION LINK TO EXCERPT BELOW & CHECK HEADER DISPLAY SIZE” _builder_version=”4.16″ _module_preset=”default” locked=”on” global_colors_info=”{}”][/et_pb_text][/et_pb_column][/et_pb_row][/et_pb_section]
URL:https://eotampabay.com/event/how-to-write-a-book-without-lifting-a-finger/
LOCATION:Virtual
CATEGORIES:Virtual,Zoom
ATTACH;FMTTYPE=image/png:https://eotampabay.com/wp-content/uploads/2022/06/How-to-write-a-Book-without-Lifting-a-Finger.png
END:VEVENT
BEGIN:VEVENT
DTSTART;TZID=America/New_York:20220706T160000
DTEND;TZID=America/New_York:20220706T170000
DTSTAMP:20260424T211346
CREATED:20220622T184527Z
LAST-MODIFIED:20220622T185449Z
UID:2955-1657123200-1657126800@eotampabay.com
SUMMARY:NJ Speed Connecting - Virtual
DESCRIPTION:[et_pb_section fb_built=”1″ _builder_version=”4.16″ _module_preset=”default” background_enable_color=”off” width=”100%” custom_margin=”|0px|||false|false” custom_padding=”10px|70px||10px|false|false” global_colors_info=”{}”][et_pb_row custom_padding_last_edited=”on|desktop” _builder_version=”4.16″ _module_preset=”default” background_enable_color=”off” width=”100%” custom_margin=”|auto||0px|false|false” custom_padding=”0px|||0px|false|false” custom_padding_tablet=”|||5px|false|false” custom_padding_phone=”” global_colors_info=”{}”][et_pb_column type=”4_4″ _builder_version=”4.16″ _module_preset=”default” global_colors_info=”{}”][et_pb_text admin_label=”EVENT INFO AND REGISTRATION LINK & FEATURED IMAGE 960 X 540 – SELECT CATEGORY” _builder_version=”4.17.4″ _module_preset=”default” custom_padding=”|5px||0px|false|false” custom_padding_tablet=”” custom_padding_phone=”” custom_padding_last_edited=”on|tablet” global_colors_info=”{}”] \nNJ Speed Connecting (Virtual)\nJuly 6\, 2022 4:00PM (Eastern Time) \nVenue: Virtual – Zoom: https://us02web.zoom.us/j/81538231457#success \nCome meet your fellow EONJ and learn more about what they do and how they do it. It is a great way to get connect to everyone in our community. \nRegister: Click Here \n[/et_pb_text][et_pb_text admin_label=”FILL IN EVENTS SECTION BELOW” _builder_version=”4.16″ _module_preset=”default” locked=”on” global_colors_info=”{}”][/et_pb_text][et_pb_text admin_label=”ADD SAME EVENT INFO & REGISTRATION LINK TO EXCERPT BELOW & CHECK HEADER DISPLAY SIZE” _builder_version=”4.16″ _module_preset=”default” locked=”on” global_colors_info=”{}”][/et_pb_text][/et_pb_column][/et_pb_row][/et_pb_section]
URL:https://eotampabay.com/event/nj-speed-connecting-virtual/
LOCATION:Virtual
CATEGORIES:Virtual,Zoom
ATTACH;FMTTYPE=image/jpeg:https://eotampabay.com/wp-content/uploads/2022/06/EONJ-Chaptersitebanner.jpg
END:VEVENT
BEGIN:VEVENT
DTSTART;TZID=America/New_York:20220620T150000
DTEND;TZID=America/New_York:20220620T170000
DTSTAMP:20260424T211346
CREATED:20220503T181333Z
LAST-MODIFIED:20220503T182302Z
UID:2801-1655737200-1655744400@eotampabay.com
SUMMARY:Boost My Business Brain! with Dr. Brynn Winegard
DESCRIPTION:Boost My Business Brain! with Dr. Brynn Winegard\nJune 20th 2022 03:00 PM (GMT-05:00) Eastern Time (US & Canada)\nVenue: Zoom \nIn this talk\, Dr. Brynn reviews her top Do’s and Don’ts from applied neuroscience for how to organize your time\, work\, schedule and thinking in order to maximize your brain power\, balance\, productivity\, and motivation so you can work and feel better in business and in life.\nBetter functionality\, sustainably higher motivation\, and increased productivity are within reach!\nBy dispelling myths and banishing misconceptions about the human brain\, Dr. Brynn will walk through frontier findings from applied neuroscience that will help you operate your own human brain more effectively so you may find more workday balance\, thwart burnout\, and have sustainably higher productivity\, motivation\, and cognitive functionality. \nRegistration: CLICK HERE
URL:https://eotampabay.com/event/boost-my-business-brain-with-dr-brynn-winegard/
LOCATION:Zoom
CATEGORIES:Zoom
ATTACH;FMTTYPE=image/png:https://eotampabay.com/wp-content/uploads/2022/05/Boost-My-Business-Brain.png
END:VEVENT
BEGIN:VEVENT
DTSTART;TZID=America/New_York:20220608T130000
DTEND;TZID=America/New_York:20220608T150000
DTSTAMP:20260424T211346
CREATED:20220503T175247Z
LAST-MODIFIED:20220503T180548Z
UID:2794-1654693200-1654700400@eotampabay.com
SUMMARY:Impact Day June 2022
DESCRIPTION:Impact Day – June 2022\nJune 8th 2022 01:00 PM (GMT-05:00) Eastern Time (US & Canada)\nVenue: Zoom \nThe EO Impact Day provides a platform for interested members to know more about the sustainability agenda\, learn how they can create impact through their business and connect with fellow members.This quarterly series will move around the world to focus on bringing you stories and experiences that entrepreneurs can take back to their business\, family and community. \nRegistration: CLICK HERE
URL:https://eotampabay.com/event/impact-day-june-2022/
LOCATION:Zoom
CATEGORIES:Zoom
ATTACH;FMTTYPE=image/png:https://eotampabay.com/wp-content/uploads/2022/05/Coming-soon.png
END:VEVENT
BEGIN:VEVENT
DTSTART;TZID=America/New_York:20220511T120000
DTEND;TZID=America/New_York:20220511T130000
DTSTAMP:20260424T211346
CREATED:20220505T150711Z
LAST-MODIFIED:20220505T152358Z
UID:2808-1652270400-1652274000@eotampabay.com
SUMMARY:Town Hall for Employee Retention Credit (ERC) - Virtual
DESCRIPTION:[et_pb_section fb_built=”1″ _builder_version=”4.16″ _module_preset=”default” background_enable_color=”off” width=”100%” custom_margin=”|0px|||false|false” custom_padding=”10px|70px||10px|false|false” global_colors_info=”{}”][et_pb_row custom_padding_last_edited=”on|desktop” _builder_version=”4.16″ _module_preset=”default” background_enable_color=”off” width=”100%” custom_margin=”|auto||0px|false|false” custom_padding=”0px|||0px|false|false” custom_padding_tablet=”|||5px|false|false” custom_padding_phone=”” global_colors_info=”{}”][et_pb_column type=”4_4″ _builder_version=”4.16″ _module_preset=”default” global_colors_info=”{}”][et_pb_text admin_label=”EVENT INFO AND REGISTRATION LINK & FEATURED IMAGE 960 X 540 – SELECT CATEGORY” _builder_version=”4.17.3″ _module_preset=”default” custom_padding=”|5px||0px|false|false” custom_padding_tablet=”” custom_padding_phone=”” custom_padding_last_edited=”on|tablet” global_colors_info=”{}”] \nTown Hall for Employee Retention Credit (ERC) – with Tom Godfrey\nMay 11th 2022 12:00 PM – 1PM  \nVenue: Virtual \nCOST: Complimentary \nEO Charleston is pleased to host a special virtual town hall with Tom Godfrey of Synergi Partners to discuss the Employee Retention Credit (ERC). This event has been put together by popular demand to help business owners who are unsure of how to take advantage of this historic tax credit. \nTom and his team at Synergi Partners are experts in the field and have already helped thousands of entrepreneurs navigate the application process to secure up to $26\,000 per employee. \nSynergi is the largest privately-owned incentive and tax credit consulting and processing company in the United States. Synergi specializes in federal and state tax credit programs\, as well as disaster relief incentives\, for employers across the United States\, including Puerto Rico. \nRegister now for this event. Registration is required. A Zoom link will be provided prior to the town hall. \nRegister: Click Here \n[/et_pb_text][et_pb_text admin_label=”FILL IN EVENTS SECTION BELOW” _builder_version=”4.16″ _module_preset=”default” locked=”on” global_colors_info=”{}”][/et_pb_text][et_pb_text admin_label=”ADD SAME EVENT INFO & REGISTRATION LINK TO EXCERPT BELOW & CHECK HEADER DISPLAY SIZE” _builder_version=”4.16″ _module_preset=”default” locked=”on” global_colors_info=”{}”][/et_pb_text][/et_pb_column][/et_pb_row][/et_pb_section]
URL:https://eotampabay.com/event/town-hall-for-employee-retention-credit-erc-virtual/
LOCATION:Virtual
CATEGORIES:Virtual,Zoom
ATTACH;FMTTYPE=image/jpeg:https://eotampabay.com/wp-content/uploads/2022/05/SynergiPartnersERCService.jpg
END:VEVENT
END:VCALENDAR