BEGIN:VCALENDAR
VERSION:2.0
PRODID:-//EO Tampabay - Accelerate Your Success - ECPv6.15.20//NONSGML v1.0//EN
CALSCALE:GREGORIAN
METHOD:PUBLISH
X-WR-CALNAME:EO Tampabay - Accelerate Your Success
X-ORIGINAL-URL:https://eotampabay.com
X-WR-CALDESC:Events for EO Tampabay - Accelerate Your Success
REFRESH-INTERVAL;VALUE=DURATION:PT1H
X-Robots-Tag:noindex
X-PUBLISHED-TTL:PT1H
BEGIN:VTIMEZONE
TZID:America/New_York
BEGIN:DAYLIGHT
TZOFFSETFROM:-0500
TZOFFSETTO:-0400
TZNAME:EDT
DTSTART:20210314T070000
END:DAYLIGHT
BEGIN:STANDARD
TZOFFSETFROM:-0400
TZOFFSETTO:-0500
TZNAME:EST
DTSTART:20211107T060000
END:STANDARD
BEGIN:DAYLIGHT
TZOFFSETFROM:-0500
TZOFFSETTO:-0400
TZNAME:EDT
DTSTART:20220313T070000
END:DAYLIGHT
BEGIN:STANDARD
TZOFFSETFROM:-0400
TZOFFSETTO:-0500
TZNAME:EST
DTSTART:20221106T060000
END:STANDARD
BEGIN:DAYLIGHT
TZOFFSETFROM:-0500
TZOFFSETTO:-0400
TZNAME:EDT
DTSTART:20230312T070000
END:DAYLIGHT
BEGIN:STANDARD
TZOFFSETFROM:-0400
TZOFFSETTO:-0500
TZNAME:EST
DTSTART:20231105T060000
END:STANDARD
END:VTIMEZONE
BEGIN:VEVENT
DTSTART;TZID=America/New_York:20221117T170000
DTEND;TZID=America/New_York:20221117T180000
DTSTAMP:20260424T153940
CREATED:20221102T215823Z
LAST-MODIFIED:20221102T215827Z
UID:3504-1668704400-1668708000@eotampabay.com
SUMMARY:EO Third Thursday Panel Discussion - November 2022
DESCRIPTION:[et_pb_section fb_built=”1″ _builder_version=”4.16″ _module_preset=”default” background_enable_color=”off” width=”100%” custom_margin=”|0px|||false|false” custom_padding=”10px|70px||10px|false|false” global_colors_info=”{}”][et_pb_row custom_padding_last_edited=”on|desktop” _builder_version=”4.16″ _module_preset=”default” background_enable_color=”off” width=”100%” custom_margin=”|auto||0px|false|false” custom_padding=”0px|||0px|false|false” custom_padding_tablet=”|||5px|false|false” custom_padding_phone=”” global_colors_info=”{}”][et_pb_column type=”4_4″ _builder_version=”4.16″ _module_preset=”default” global_colors_info=”{}”][et_pb_text admin_label=”EVENT INFO AND REGISTRATION LINK & FEATURED IMAGE 960 X 540 – SELECT CATEGORY” _builder_version=”4.18.1″ _module_preset=”default” header_2_line_height=”105%” custom_padding=”|5px||0px|false|false” custom_padding_tablet=”” custom_padding_phone=”” custom_padding_last_edited=”on|tablet” hover_enabled=”0″ header_2_line_height_tablet=”105%” header_2_line_height_phone=”105%” header_2_line_height_last_edited=”on|phone” global_colors_info=”{}” sticky_enabled=”0″] \nPanel Discussion with Men and Women of EO\n \nDate: November 17th 2022\nTime: 5:00 PM – 6:00 PM\nVenue: Cru Westshore Marina\nAddress: 5232 Bridge St. Tampa FL 33611 \nConnect with our EO Family and their guests for a fun and casual evening.\nCru Westshore Marina is a true Wine Restaurant\, boasting a delicious dinner menu and signature Cru dishes! \nWe look forward to seeing you there.\nSpouses\, Life Partners\, dates\, family members all welcome. \nREGISTER[/et_pb_text][et_pb_text admin_label=”FILL IN EVENTS SECTION BELOW” _builder_version=”4.16″ _module_preset=”default” locked=”on” global_colors_info=”{}”][/et_pb_text][et_pb_text admin_label=”ADD SAME EVENT INFO & REGISTRATION LINK TO EXCERPT BELOW & CHECK HEADER DISPLAY SIZE” _builder_version=”4.16″ _module_preset=”default” locked=”on” global_colors_info=”{}”][/et_pb_text][/et_pb_column][/et_pb_row][/et_pb_section]
URL:https://eotampabay.com/event/eo-third-thursday-panel-discussion-november-2022/
LOCATION:Cru Cellars\, Westshore Marina\, 5232 Bridge Street\, Tampa\, FL\, 33611\, United States
CATEGORIES:Special Event
ATTACH;FMTTYPE=image/jpeg:https://eotampabay.com/wp-content/uploads/2022/11/Nov.17th-Happy-Hour.jpg
END:VEVENT
BEGIN:VEVENT
DTSTART;TZID=America/New_York:20220912T043000
DTEND;TZID=America/New_York:20220912T043000
DTSTAMP:20260424T153940
CREATED:20220819T032102Z
LAST-MODIFIED:20220819T032105Z
UID:3251-1662957000-1662957000@eotampabay.com
SUMMARY:VIRTUAL: How to Scale your Business using TikTok
DESCRIPTION:[et_pb_section fb_built=”1″ _builder_version=”4.16″ _module_preset=”default” background_enable_color=”off” width=”100%” custom_margin=”|0px|||false|false” custom_padding=”10px|70px||10px|false|false” global_colors_info=”{}”][et_pb_row custom_padding_last_edited=”on|desktop” _builder_version=”4.16″ _module_preset=”default” background_enable_color=”off” width=”100%” custom_margin=”|auto||0px|false|false” custom_padding=”0px|||0px|false|false” custom_padding_tablet=”|||5px|false|false” custom_padding_phone=”” global_colors_info=”{}”][et_pb_column type=”4_4″ _builder_version=”4.16″ _module_preset=”default” global_colors_info=”{}”][et_pb_text admin_label=”EVENT INFO AND REGISTRATION LINK & FEATURED IMAGE 960 X 540 – SELECT CATEGORY” _builder_version=”4.18.0″ _module_preset=”default” header_2_line_height=”105%” custom_padding=”|5px||0px|false|false” custom_padding_tablet=”” custom_padding_phone=”” custom_padding_last_edited=”on|tablet” hover_enabled=”0″ header_2_line_height_tablet=”105%” header_2_line_height_phone=”105%” header_2_line_height_last_edited=”on|phone” global_colors_info=”{}” sticky_enabled=”0″] \nVIRTUAL: How to Scale your Business using TikTok\nDate: September 12th 2022Time 6:30 PM (GMT+10:00) Canberra\, Melbourne\, SydneyVenue: Virtual – Link will be shared the day priorLocation: Australia \nVIRTUAL EVENT \nYou are invited to join us for our upcoming event ‘How to scale your business using TikTok.’ \nLearn how Managing Partner at Executive Legal\, Jahan Kalantar\, transformed his business with TikTok and created a cult following of 300k! \nThis is an in-person EO Sydney event\, however we would love for you to join us virtually. \nA Zoom link will be emailed to you the day prior. \nREGISTRATION \n[/et_pb_text][et_pb_text admin_label=”FILL IN EVENTS SECTION BELOW” _builder_version=”4.16″ _module_preset=”default” locked=”on” global_colors_info=”{}”][/et_pb_text][et_pb_text admin_label=”ADD SAME EVENT INFO & REGISTRATION LINK TO EXCERPT BELOW & CHECK HEADER DISPLAY SIZE” _builder_version=”4.16″ _module_preset=”default” locked=”on” global_colors_info=”{}”][/et_pb_text][et_pb_button button_url=”https://events.eonetwork.org/exploration-iceland/” url_new_window=”on” button_text=”Register today!” button_alignment=”center” disabled_on=”on|on|on” admin_label=”Event Button” _builder_version=”4.16″ _module_preset=”default” custom_button=”on” button_bg_color=”#3239CB” button_border_width=”0px” button_border_radius=”0px” disabled=”on” global_colors_info=”{}”][/et_pb_button][/et_pb_column][/et_pb_row][/et_pb_section]
URL:https://eotampabay.com/event/virtual-how-to-scale-your-business-using-tiktok/
LOCATION:Virtual
CATEGORIES:Special Event,Virtual
ATTACH;FMTTYPE=image/jpeg:https://eotampabay.com/wp-content/uploads/2022/08/HOw-to-Scale-you-Business-using-Tik-Tok.jpg
END:VEVENT
BEGIN:VEVENT
DTSTART;TZID=America/New_York:20220907T080000
DTEND;TZID=America/New_York:20220907T100000
DTSTAMP:20260424T153940
CREATED:20220819T031149Z
LAST-MODIFIED:20220819T031152Z
UID:3245-1662537600-1662544800@eotampabay.com
SUMMARY:EO Leaders Connect & Grow
DESCRIPTION:[et_pb_section fb_built=”1″ _builder_version=”4.16″ _module_preset=”default” background_enable_color=”off” width=”100%” custom_margin=”|0px|||false|false” custom_padding=”10px|70px||10px|false|false” global_colors_info=”{}”][et_pb_row custom_padding_last_edited=”on|desktop” _builder_version=”4.16″ _module_preset=”default” background_enable_color=”off” width=”100%” custom_margin=”|auto||0px|false|false” custom_padding=”0px|||0px|false|false” custom_padding_tablet=”|||5px|false|false” custom_padding_phone=”” global_colors_info=”{}”][et_pb_column type=”4_4″ _builder_version=”4.16″ _module_preset=”default” global_colors_info=”{}”][et_pb_text admin_label=”EVENT INFO AND REGISTRATION LINK & FEATURED IMAGE 960 X 540 – SELECT CATEGORY” _builder_version=”4.18.0″ _module_preset=”default” header_2_line_height=”105%” custom_padding=”|5px||0px|false|false” custom_padding_tablet=”” custom_padding_phone=”” custom_padding_last_edited=”on|tablet” hover_enabled=”0″ header_2_line_height_tablet=”105%” header_2_line_height_phone=”105%” header_2_line_height_last_edited=”on|phone” global_colors_info=”{}” sticky_enabled=”0″] \nEO Leaders Connect & Grow\nDate: September 7th 2022Time: 2:00 PM (GMT+01:00) Amsterdam\, Berlin\, Bern\, Rome\, Stockholm\, ViennaVenue: Zoom \nThe purpose of the call is to reunite all EO Europe leaders\, past and present\, and take a glimpse at what we are working on. Taunya Renson will be doing an introductory overview of the plans for Europe -“Borderless Europe”. \nThe topic will be How to become a borderless Europe – A framework for strengths-based leadership – leading self\, leading others and leading mission\, organization or brand. \nIn order for our Leaders to thrive and implement the right learning solutions in EO and in their business\, EO Europe is hosting an online “Gallup workshop”\, where Tim Falkenhagen will be introducing an executive certified Gallup Strengths coach – Claire de Carteret\, who will be leading this practical workshop. \nREGISTRATION \n[/et_pb_text][et_pb_text admin_label=”FILL IN EVENTS SECTION BELOW” _builder_version=”4.16″ _module_preset=”default” locked=”on” global_colors_info=”{}”][/et_pb_text][et_pb_text admin_label=”ADD SAME EVENT INFO & REGISTRATION LINK TO EXCERPT BELOW & CHECK HEADER DISPLAY SIZE” _builder_version=”4.16″ _module_preset=”default” locked=”on” global_colors_info=”{}”][/et_pb_text][et_pb_button button_url=”https://events.eonetwork.org/exploration-iceland/” url_new_window=”on” button_text=”Register today!” button_alignment=”center” disabled_on=”on|on|on” admin_label=”Event Button” _builder_version=”4.16″ _module_preset=”default” custom_button=”on” button_bg_color=”#3239CB” button_border_width=”0px” button_border_radius=”0px” disabled=”on” global_colors_info=”{}”][/et_pb_button][/et_pb_column][/et_pb_row][/et_pb_section]
URL:https://eotampabay.com/event/eo-leaders-connect-grow/
LOCATION:Zoom
CATEGORIES:Special Event,Zoom
ATTACH;FMTTYPE=image/jpeg:https://eotampabay.com/wp-content/uploads/2022/08/EO-LEaders-Connect-Grow-scaled.jpg
ORGANIZER;CN="EO Europe":MAILTO:jtudose@eonetwork.org
END:VEVENT
BEGIN:VEVENT
DTSTART;TZID=America/New_York:20220906T123000
DTEND;TZID=America/New_York:20220906T140000
DTSTAMP:20260424T153940
CREATED:20220819T025737Z
LAST-MODIFIED:20220819T030147Z
UID:3236-1662467400-1662472800@eotampabay.com
SUMMARY:Lunch Around the World - Indian Food District
DESCRIPTION:[et_pb_section fb_built=”1″ _builder_version=”4.16″ _module_preset=”default” background_enable_color=”off” width=”100%” custom_margin=”|0px|||false|false” custom_padding=”10px|70px||10px|false|false” global_colors_info=”{}”][et_pb_row custom_padding_last_edited=”on|desktop” _builder_version=”4.16″ _module_preset=”default” background_enable_color=”off” width=”100%” custom_margin=”|auto||0px|false|false” custom_padding=”0px|||0px|false|false” custom_padding_tablet=”|||5px|false|false” custom_padding_phone=”” global_colors_info=”{}”][et_pb_column type=”4_4″ _builder_version=”4.16″ _module_preset=”default” global_colors_info=”{}”][et_pb_text admin_label=”EVENT INFO AND REGISTRATION LINK & FEATURED IMAGE 960 X 540 – SELECT CATEGORY” _builder_version=”4.18.0″ _module_preset=”default” header_2_line_height=”105%” custom_padding=”|5px||0px|false|false” custom_padding_tablet=”” custom_padding_phone=”” custom_padding_last_edited=”on|tablet” header_2_line_height_tablet=”105%” header_2_line_height_phone=”105%” header_2_line_height_last_edited=”on|phone” global_colors_info=”{}”] \nLunch Around the World I Indian Food District\nDate: September 6th  2022\nTime: 11:30 AM Central Time\nVenue: TBD\nLocation: United States \nLunch Around The World | Indian Food District\nOne of EO’s greatest benefits is meeting other entrepreneurs and there is no easier way to make those personal connections than sitting down together. That is where Lunch Around comes in.\nYou will be contacted a few days before with your assigned restaurant. (Registration will close two days before to coordinate assigned restaurants) \nREGISTER HERE[/et_pb_text][et_pb_text admin_label=”FILL IN EVENTS SECTION BELOW” _builder_version=”4.16″ _module_preset=”default” locked=”on” global_colors_info=”{}”][/et_pb_text][et_pb_text admin_label=”ADD SAME EVENT INFO & REGISTRATION LINK TO EXCERPT BELOW & CHECK HEADER DISPLAY SIZE” _builder_version=”4.16″ _module_preset=”default” locked=”on” global_colors_info=”{}”][/et_pb_text][/et_pb_column][/et_pb_row][/et_pb_section]
URL:https://eotampabay.com/event/lunch-around-the-world-i-indian-food-district/
LOCATION:TBD
CATEGORIES:Special Event
ATTACH;FMTTYPE=image/jpeg:https://eotampabay.com/wp-content/uploads/2022/08/Lunch-Around-the-World.jpg
END:VEVENT
BEGIN:VEVENT
DTSTART;TZID=America/New_York:20220715T193000
DTEND;TZID=America/New_York:20220715T213000
DTSTAMP:20260424T153940
CREATED:20220622T203841Z
LAST-MODIFIED:20220622T203924Z
UID:3021-1657913400-1657920600@eotampabay.com
SUMMARY:EO Charlotte Family Fun Event - July 2022
DESCRIPTION:[et_pb_section fb_built=”1″ _builder_version=”4.16″ _module_preset=”default” background_enable_color=”off” width=”100%” custom_margin=”|0px|||false|false” custom_padding=”10px|70px||10px|false|false” global_colors_info=”{}”][et_pb_row custom_padding_last_edited=”on|desktop” _builder_version=”4.16″ _module_preset=”default” background_enable_color=”off” width=”100%” custom_margin=”|auto||0px|false|false” custom_padding=”0px|||0px|false|false” custom_padding_tablet=”|||5px|false|false” custom_padding_phone=”” global_colors_info=”{}”][et_pb_column type=”4_4″ _builder_version=”4.16″ _module_preset=”default” global_colors_info=”{}”][et_pb_text admin_label=”EVENT INFO AND REGISTRATION LINK & FEATURED IMAGE 960 X 540 – SELECT CATEGORY” _builder_version=”4.17.4″ _module_preset=”default” header_2_line_height=”105%” custom_padding=”|5px||0px|false|false” custom_padding_tablet=”” custom_padding_phone=”” custom_padding_last_edited=”on|tablet” header_2_line_height_tablet=”105%” header_2_line_height_phone=”105%” header_2_line_height_last_edited=”on|phone” global_colors_info=”{}”] \n2022 EO Charlotte Family Fun Event\n  \n15 July 2022 06:30 PM (GMT-05:00) Eastern Time (US & Canada) \nVenue: Charlotte Knights Baseball Stadium \nLocation: Charlotte\, North Carolina\, United States \nFamily Fun & Baseball! \nRegister Here:[/et_pb_text][et_pb_text admin_label=”FILL IN EVENTS SECTION BELOW” _builder_version=”4.16″ _module_preset=”default” locked=”on” global_colors_info=”{}”][/et_pb_text][et_pb_text admin_label=”ADD SAME EVENT INFO & REGISTRATION LINK TO EXCERPT BELOW & CHECK HEADER DISPLAY SIZE” _builder_version=”4.16″ _module_preset=”default” locked=”on” global_colors_info=”{}”][/et_pb_text][/et_pb_column][/et_pb_row][/et_pb_section]
URL:https://eotampabay.com/event/eo-charlotte-family-fun-event-july-2022/
LOCATION:EO Charlotte\, United States
CATEGORIES:Special Event
ATTACH;FMTTYPE=image/png:https://eotampabay.com/wp-content/uploads/2022/06/EO-Charlotee-Family-Fun-Event.png
END:VEVENT
BEGIN:VEVENT
DTSTART;TZID=America/New_York:20220519T160000
DTEND;TZID=America/New_York:20220519T180000
DTSTAMP:20260424T153940
CREATED:20220408T213657Z
LAST-MODIFIED:20220408T213727Z
UID:2648-1652976000-1652983200@eotampabay.com
SUMMARY:EONY Signature Firewalk Event
DESCRIPTION:[et_pb_section fb_built=”1″ _builder_version=”4.16″ _module_preset=”default” background_enable_color=”off” width=”100%” custom_margin=”|0px|||false|false” custom_padding=”10px|70px||10px|false|false” global_colors_info=”{}”][et_pb_row custom_padding_last_edited=”on|desktop” _builder_version=”4.16″ _module_preset=”default” background_enable_color=”off” width=”100%” custom_margin=”|auto||0px|false|false” custom_padding=”0px|||0px|false|false” custom_padding_tablet=”|||5px|false|false” custom_padding_phone=”” global_colors_info=”{}”][et_pb_column type=”4_4″ _builder_version=”4.16″ _module_preset=”default” global_colors_info=”{}”][et_pb_text admin_label=”EVENT INFO AND REGISTRATION LINK & FEATURED IMAGE 960 X 540 – SELECT CATEGORY” _builder_version=”4.16.1″ _module_preset=”default” header_2_line_height=”105%” custom_padding=”|5px||0px|false|false” custom_padding_tablet=”” custom_padding_phone=”” custom_padding_last_edited=”on|tablet” header_2_line_height_tablet=”105%” header_2_line_height_phone=”105%” header_2_line_height_last_edited=”on|phone” global_colors_info=”{}”] \nEONY Signature Firewalk Event\n19 May 2022 04:00 PM (GMT-05:00) Eastern Time (US & Canada)Venue: The Hudson NYC (https://thehudson.nyc/)Location: United States \nCome and connect with fellow EO’ers in the EONY Signature Firewalk Event \nOPEN TO:• EONY MEMBERS & THEIR GUESTS (Guest Fee Applies and due upon Registration)• OUTSIDE CHAPTER MEMBERS & GUESTS (Guest Fee Applies and due upon Registration) \nRegistration \n[/et_pb_text][et_pb_text admin_label=”FILL IN EVENTS SECTION BELOW” _builder_version=”4.16″ _module_preset=”default” locked=”on” global_colors_info=”{}”][/et_pb_text][et_pb_text admin_label=”ADD SAME EVENT INFO & REGISTRATION LINK TO EXCERPT BELOW & CHECK HEADER DISPLAY SIZE” _builder_version=”4.16″ _module_preset=”default” locked=”on” global_colors_info=”{}”][/et_pb_text][/et_pb_column][/et_pb_row][/et_pb_section]
URL:https://eotampabay.com/event/eony-signature-firewalk-event/
LOCATION:The Hudson NYC\, The Hudson NYC\, United States
CATEGORIES:Special Event
ATTACH;FMTTYPE=image/jpeg:https://eotampabay.com/wp-content/uploads/2022/04/The-Hudson-NYC-opt.jpg
END:VEVENT
BEGIN:VEVENT
DTSTART;TZID=America/New_York:20220427T183000
DTEND;TZID=America/New_York:20220427T213000
DTSTAMP:20260424T153940
CREATED:20220408T202328Z
LAST-MODIFIED:20220422T183756Z
UID:2617-1651084200-1651095000@eotampabay.com
SUMMARY:Picasso Exhibit
DESCRIPTION:[et_pb_section fb_built=”1″ _builder_version=”4.16″ _module_preset=”default” background_enable_color=”off” width=”100%” custom_margin=”|0px|||false|false” custom_padding=”10px|70px||10px|false|false” global_colors_info=”{}”][et_pb_row custom_padding_last_edited=”on|desktop” _builder_version=”4.16″ _module_preset=”default” background_enable_color=”off” width=”100%” custom_margin=”|auto||0px|false|false” custom_padding=”0px|||0px|false|false” custom_padding_tablet=”|||5px|false|false” custom_padding_phone=”” global_colors_info=”{}”][et_pb_column type=”4_4″ _builder_version=”4.16″ _module_preset=”default” global_colors_info=”{}”][et_pb_text admin_label=”EVENT INFO AND REGISTRATION LINK & FEATURED IMAGE 960 X 540 – SELECT CATEGORY” _builder_version=”4.17.1″ _module_preset=”default” header_2_line_height=”105%” custom_padding=”|5px||0px|false|false” custom_padding_tablet=”” custom_padding_phone=”” custom_padding_last_edited=”on|tablet” hover_enabled=”0″ header_2_line_height_tablet=”105%” header_2_line_height_phone=”105%” header_2_line_height_last_edited=”on|phone” global_colors_info=”{}” sticky_enabled=”0″] \nPicasso Exhibit – The Allure of the South\nApril 27th\, 6:30 PM \nPlease note the NEW TIME for this event. Also\, please confirm that you are still able to attend with the new time. \nShumaker\, as a SAP of Entrepreneurs Organization\, would like to exclusively invite you to join us to experience a never before seen exhibit: \nPicassoThe Allure of the South \nBelow is updated invite and instructions for complimentary parking. \nEnter through Gate 1 Mahaffey entrance\, drive all the way through the covered parking into the open Dali parking lot \nPlease rsvp to rsvp@shumaker.com (space is limited) \n[/et_pb_text][et_pb_text admin_label=”FILL IN EVENTS SECTION BELOW” _builder_version=”4.16″ _module_preset=”default” locked=”on” global_colors_info=”{}”][/et_pb_text][et_pb_text admin_label=”ADD SAME EVENT INFO & REGISTRATION LINK TO EXCERPT BELOW & CHECK HEADER DISPLAY SIZE” _builder_version=”4.16″ _module_preset=”default” locked=”on” global_colors_info=”{}”][/et_pb_text][/et_pb_column][/et_pb_row][/et_pb_section]
URL:https://eotampabay.com/event/picasso-exhibit/
LOCATION:The Dali\, 1 Dali Blvd\, St Petersburg\, FL\, 33701\, United States
CATEGORIES:Special Event
ATTACH;FMTTYPE=image/jpeg:https://eotampabay.com/wp-content/uploads/2022/04/Picasso-Exhibit2.jpg
END:VEVENT
END:VCALENDAR