BEGIN:VCALENDAR
VERSION:2.0
PRODID:-//EO Tampabay - Accelerate Your Success - ECPv6.15.20//NONSGML v1.0//EN
CALSCALE:GREGORIAN
METHOD:PUBLISH
X-ORIGINAL-URL:https://eotampabay.com
X-WR-CALDESC:Events for EO Tampabay - Accelerate Your Success
REFRESH-INTERVAL;VALUE=DURATION:PT1H
X-Robots-Tag:noindex
X-PUBLISHED-TTL:PT1H
BEGIN:VTIMEZONE
TZID:America/New_York
BEGIN:DAYLIGHT
TZOFFSETFROM:-0500
TZOFFSETTO:-0400
TZNAME:EDT
DTSTART:20190310T070000
END:DAYLIGHT
BEGIN:STANDARD
TZOFFSETFROM:-0400
TZOFFSETTO:-0500
TZNAME:EST
DTSTART:20191103T060000
END:STANDARD
BEGIN:DAYLIGHT
TZOFFSETFROM:-0500
TZOFFSETTO:-0400
TZNAME:EDT
DTSTART:20200308T070000
END:DAYLIGHT
BEGIN:STANDARD
TZOFFSETFROM:-0400
TZOFFSETTO:-0500
TZNAME:EST
DTSTART:20201101T060000
END:STANDARD
BEGIN:DAYLIGHT
TZOFFSETFROM:-0500
TZOFFSETTO:-0400
TZNAME:EDT
DTSTART:20210314T070000
END:DAYLIGHT
BEGIN:STANDARD
TZOFFSETFROM:-0400
TZOFFSETTO:-0500
TZNAME:EST
DTSTART:20211107T060000
END:STANDARD
BEGIN:DAYLIGHT
TZOFFSETFROM:-0500
TZOFFSETTO:-0400
TZNAME:EDT
DTSTART:20220313T070000
END:DAYLIGHT
BEGIN:STANDARD
TZOFFSETFROM:-0400
TZOFFSETTO:-0500
TZNAME:EST
DTSTART:20221106T060000
END:STANDARD
END:VTIMEZONE
BEGIN:VEVENT
DTSTART;TZID=America/New_York:20210409T113000
DTEND;TZID=America/New_York:20210409T130000
DTSTAMP:20260424T225247
CREATED:20210326T202959Z
LAST-MODIFIED:20210326T210948Z
UID:1438-1617967800-1617973200@eotampabay.com
SUMMARY:Power Lunch - In Person Apr 2021
DESCRIPTION:[et_pb_section fb_built=”1″ _builder_version=”4.6.3″ _module_preset=”default” background_enable_color=”off” width=”100%” custom_margin=”|0px|||false|false” custom_padding=”10px|70px||10px|false|false”][et_pb_row custom_padding_last_edited=”on|desktop” _builder_version=”4.6.3″ _module_preset=”default” background_enable_color=”off” width=”100%” custom_margin=”|auto||0px|false|false” custom_padding=”0px|||0px|false|false” custom_padding_tablet=”|||5px|false|false” custom_padding_phone=””][et_pb_column type=”4_4″ _builder_version=”4.6.0″ _module_preset=”default”][et_pb_text admin_label=”EVENT INFO AND REGISTRATION LINK & FEATURED IMAGE 960 X 540 – SELECT CATEGORY” _builder_version=”4.9.2″ _module_preset=”default” header_2_line_height=”105%” custom_padding=”|5px||0px|false|false” custom_padding_tablet=”” custom_padding_phone=”” custom_padding_last_edited=”on|tablet” hover_enabled=”0″ header_2_line_height_tablet=”105%” header_2_line_height_phone=”105%” header_2_line_height_last_edited=”on|phone” sticky_enabled=”0″] \nHow to use speaking as a PAID marketing tool and opportunity to improve your presentation\nFeaturing\, Kerry Kathleen Heaps\, President\, Kerry’s Network of Companies\, Inc. \nHow amazing would it be to not spend any money on marketing\, and have a steady flow of prospects? Do you feel you need to improve before you take the stage or want to have more of a wow factor? That’s what we will review in this workshop\, how to set up a process on repeat to keep you in front of audiences sharing your message\, helping more people and getting paid for it. \n3-5 takeaways: \nThe top 5 things you need prior to getting booked\nWhy being negotiable is the key to more engagements\nHow present like a Professional\, even on ZOOM\nHaving a worry-free presentation that’s fun for you too!\nTop 5 reasons speakers don’t get selected and how to avoid them\n \nAll CDC Guidelines will be followed. Each person will have their own 6ft table. \nRegister: https://www.eonetwork.org/member/events-and-learning/event-details?eventid=9999df99-b077-eb11-9476-005056aa1955 \n [/et_pb_text][et_pb_text admin_label=”FILL IN EVENTS SECTION BELOW” _builder_version=”4.6.3″ _module_preset=”default” locked=”on”][/et_pb_text][et_pb_text admin_label=”ADD SAME EVENT INFO & REGISTRATION LINK TO EXCERPT BELOW & CHECK HEADER DISPLAY SIZE” _builder_version=”4.6.3″ _module_preset=”default” locked=”on”][/et_pb_text][/et_pb_column][/et_pb_row][/et_pb_section]
URL:https://eotampabay.com/event/power-lunch-in-person-apr-2021/
LOCATION:Embarc Collective\, 802 E Whiting St\, Tampa\, FL\, 33602\, United States
CATEGORIES:Power Lunch
ATTACH;FMTTYPE=image/jpeg:https://eotampabay.com/wp-content/uploads/2020/09/Embarc-Outside-960-opt.jpg
END:VEVENT
BEGIN:VEVENT
DTSTART;TZID=America/New_York:20210212T113000
DTEND;TZID=America/New_York:20210212T130000
DTSTAMP:20260424T225247
CREATED:20210128T023121Z
LAST-MODIFIED:20210326T232128Z
UID:1387-1613129400-1613134800@eotampabay.com
SUMMARY:Power Lunch - In Person Feb 2021
DESCRIPTION:[et_pb_section fb_built=”1″ _builder_version=”4.6.3″ _module_preset=”default” background_enable_color=”off” width=”100%” custom_margin=”|0px|||false|false” custom_padding=”10px|70px||10px|false|false”][et_pb_row custom_padding_last_edited=”on|desktop” _builder_version=”4.6.3″ _module_preset=”default” background_enable_color=”off” width=”100%” custom_margin=”|auto||0px|false|false” custom_padding=”0px|||0px|false|false” custom_padding_tablet=”|||5px|false|false” custom_padding_phone=””][et_pb_column type=”4_4″ _builder_version=”4.6.0″ _module_preset=”default”][et_pb_text admin_label=”EVENT INFO AND REGISTRATION LINK & FEATURED IMAGE 960 X 540 – SELECT CATEGORY” _builder_version=”4.8.1″ _module_preset=”default” custom_padding=”|5px||0px|false|false” custom_padding_tablet=”” custom_padding_phone=”” custom_padding_last_edited=”on|tablet” hover_enabled=”0″ sticky_enabled=”0″] \nVaccinations and Other COVID Considerations for Employers\nFeaturing Brad deBeaubien\, Shumaker \n\nJoin us for this very important update concerning your business on the COVID vaccines and the laws behind them. \nThis is an indoor event. Each person will have their own 6ft table. \nLunch will be served following CDC compliance by Brandon Assaf\, ReBuilt Meals and this years Finance Chair. \n[/et_pb_text][et_pb_text admin_label=”FILL IN EVENTS SECTION BELOW” _builder_version=”4.6.3″ _module_preset=”default” locked=”on”][/et_pb_text][et_pb_text admin_label=”ADD SAME EVENT INFO & REGISTRATION LINK TO EXCERPT BELOW & CHECK HEADER DISPLAY SIZE” _builder_version=”4.6.3″ _module_preset=”default” locked=”on”][/et_pb_text][/et_pb_column][/et_pb_row][/et_pb_section]
URL:https://eotampabay.com/event/power-lunch-in-person-feb-2021/
LOCATION:Embarc Collective\, 802 E Whiting St\, Tampa\, FL\, 33602\, United States
CATEGORIES:Power Lunch
END:VEVENT
BEGIN:VEVENT
DTSTART;TZID=America/New_York:20210108T080000
DTEND;TZID=America/New_York:20210108T170000
DTSTAMP:20260424T225247
CREATED:20201203T153255Z
LAST-MODIFIED:20210128T024830Z
UID:1361-1610092800-1610125200@eotampabay.com
SUMMARY:Power Lunch - In Person Jan 2021
DESCRIPTION:[et_pb_section fb_built=”1″ _builder_version=”4.6.3″ _module_preset=”default” background_enable_color=”off” width=”100%” custom_margin=”|0px|||false|false” custom_padding=”10px|70px||10px|false|false”][et_pb_row custom_padding_last_edited=”on|desktop” _builder_version=”4.6.3″ _module_preset=”default” background_enable_color=”off” width=”100%” custom_margin=”|auto||0px|false|false” custom_padding=”0px|||0px|false|false” custom_padding_tablet=”|||5px|false|false” custom_padding_phone=””][et_pb_column type=”4_4″ _builder_version=”4.6.0″ _module_preset=”default”][et_pb_text admin_label=”EVENT INFO AND REGISTRATION LINK & FEATURED IMAGE 960 X 540 – SELECT CATEGORY” _builder_version=”4.7.1″ _module_preset=”default” custom_padding=”|5px||0px|false|false” custom_padding_tablet=”” custom_padding_phone=”” custom_padding_last_edited=”on|tablet” hover_enabled=”0″ sticky_enabled=”0″] \nTampa Bay’s Technology Scene 2021\nFeaturing\, Lakshmi Shenoy\, CEO Embarc Collective \n\nThe Tampa Bay Tech scene has exploded. Come hear who are the players\, where are we headed and what the landscape looks like for 2021. You won’t believe who’s living and working in the Bay Area to make our region one of the top tech centers in the country. \nThis is an indoor event. Each person will be at their own 6ft table. \nLunch provided by ReBuilt Meals – you will need to pick your choice of meals\, once you register you will receive the menu. Individually sealed cutlery and drink bottles will be used and sanitized. \nMembers register here: https://www.eonetwork.org/member/events-and-learning/event-details?eventid=08b8dd48-d812-eb11-946d-005056aa1955[/et_pb_text][et_pb_text admin_label=”FILL IN EVENTS SECTION BELOW” _builder_version=”4.6.3″ _module_preset=”default” locked=”on”][/et_pb_text][et_pb_text admin_label=”ADD SAME EVENT INFO & REGISTRATION LINK TO EXCERPT BELOW & CHECK HEADER DISPLAY SIZE” _builder_version=”4.6.3″ _module_preset=”default” locked=”on”][/et_pb_text][/et_pb_column][/et_pb_row][/et_pb_section]
URL:https://eotampabay.com/event/power-lunch-in-person-jan-2021/
LOCATION:FL
CATEGORIES:Power Lunch
END:VEVENT
BEGIN:VEVENT
DTSTART;TZID=America/New_York:20201211T113000
DTEND;TZID=America/New_York:20201211T130000
DTSTAMP:20260424T225247
CREATED:20201203T133016Z
LAST-MODIFIED:20201203T133019Z
UID:1341-1607686200-1607691600@eotampabay.com
SUMMARY:Power Lunch - In Person - Dec 2020
DESCRIPTION:[et_pb_section fb_built=”1″ _builder_version=”4.6.3″ _module_preset=”default” background_enable_color=”off” width=”100%” custom_margin=”|0px|||false|false” custom_padding=”10px|70px||10px|false|false”][et_pb_row custom_padding_last_edited=”on|desktop” _builder_version=”4.6.3″ _module_preset=”default” background_enable_color=”off” width=”100%” custom_margin=”|auto||0px|false|false” custom_padding=”0px|||0px|false|false” custom_padding_tablet=”|||5px|false|false” custom_padding_phone=””][et_pb_column type=”4_4″ _builder_version=”4.6.0″ _module_preset=”default”][et_pb_text admin_label=”EVENT INFO AND REGISTRATION LINK & FEATURED IMAGE 960 X 540 – SELECT CATEGORY” _builder_version=”4.7.1″ _module_preset=”default” custom_padding=”|5px||0px|false|false” custom_padding_tablet=”” custom_padding_phone=”” custom_padding_last_edited=”on|tablet” hover_enabled=”0″ sticky_enabled=”0″] \nWork\, Passion\, Life\, Balance\nPresented byDr. Matt Kolinski\,author\, physician\, entrepreneur and investor who released his new book called Work-Passion-Life Balance in May 2020.  \nHe has developed a philosophy for maximizing your life through the use of Zones of Efficiency to maximize your Zone of Life Satisfaction which he explains through his Key Note presentation: “Maximizing Your Life Satisfaction Through Zones of Efficiency.” In this presentation and workshop he will review how he approaches the 3 primary categories of relationships: Selfless\, Selfish and Mutually Beneficial\, in such a way that maximizes his overall satisfaction. In the workshop he will guide you through the 3 steps required to take an assessment of your relationship and provides insights into ways to enhance your life satisfaction. Matt is the owner of several companies\, a renown Doctor of Internal Medicine and Pediatrics and is currently a Hospitalist Physician for the Bay Pines VA\, EO Tampa Bay’s Past Finance Chair\, current Engagement Chair and our President Elect for 2021/2022. Matt is married to his beautiful wife Laura and has two children. \nThis is an indoor event. \nEach person will be at their own 6ft table. \nLunch will be served following CDC compliance by Brandon Assaf\, ReBuilt Meals and this years Finance Chair. \nRegister: https://www.eonetwork.org/member/events-and-learning/event-details?eventid=08b8dd48-d812-eb11-946d-005056aa1955 \n[/et_pb_text][et_pb_text admin_label=”FILL IN EVENTS SECTION BELOW” _builder_version=”4.6.3″ _module_preset=”default” locked=”on”][/et_pb_text][et_pb_text admin_label=”ADD SAME EVENT INFO & REGISTRATION LINK TO EXCERPT BELOW & CHECK HEADER DISPLAY SIZE” _builder_version=”4.6.3″ _module_preset=”default” locked=”on”][/et_pb_text][/et_pb_column][/et_pb_row][/et_pb_section]
URL:https://eotampabay.com/event/power-lunch-in-person-dec-2020/
LOCATION:Embarc Collective\, 802 E Whiting St\, Tampa\, FL\, 33602\, United States
CATEGORIES:Power Lunch
ATTACH;FMTTYPE=image/jpeg:https://eotampabay.com/wp-content/uploads/2020/09/Embarc-Outside-960-opt.jpg
END:VEVENT
BEGIN:VEVENT
DTSTART;TZID=America/New_York:20201106T113000
DTEND;TZID=America/New_York:20201106T130000
DTSTAMP:20260424T225247
CREATED:20200924T163136Z
LAST-MODIFIED:20201203T134201Z
UID:850-1604662200-1604667600@eotampabay.com
SUMMARY:Power Lunch – In Person - Nov 2020
DESCRIPTION:[et_pb_section fb_built=”1″ _builder_version=”4.6.3″ _module_preset=”default” background_enable_color=”off” width=”100%” custom_margin=”|0px|||false|false” custom_padding=”10px|70px||10px|false|false”][et_pb_row custom_padding_last_edited=”on|desktop” _builder_version=”4.6.3″ _module_preset=”default” background_enable_color=”off” width=”100%” custom_margin=”|auto||0px|false|false” custom_padding=”0px|||0px|false|false” custom_padding_tablet=”|||5px|false|false” custom_padding_phone=””][et_pb_column type=”4_4″ _builder_version=”4.6.0″ _module_preset=”default”][et_pb_text admin_label=”EVENT INFO AND REGISTRATION LINK & FEATURED IMAGE 960 X 540 – SELECT CATEGORY” _builder_version=”4.7.1″ _module_preset=”default” custom_padding=”|5px||0px|false|false” custom_padding_tablet=”” custom_padding_phone=”” custom_padding_last_edited=”on|tablet” hover_enabled=”0″ sticky_enabled=”0″] \nPower Lunch – In Person\nUsing Tasty Content to Kick-ass Online While Building your Position as a Thought Leader \nFeaturing\, Dave Kustin\, co-founder—> ContentBacon \n\n• Using content to build a “digital moat” around you and your brand\n• Leveraging your content to build culture and attract talent\n• Inbound marketing as the 24/7 salesperson. \nThis is an indoor event. Each person will be at their own 6ft table. \nLunch provided by ReBuilt Meals – you will need to pick your choice of meals\, once you register you will receive the menu. Individually sealed cutlery and drink bottles will be used and sanitized. \nMembers register here: https://www.eonetwork.org/member/events-and-learning/event-details?eventid=a8570802-f0f9-ea11-946c-005056aa1955\nAll non-members contact: Rhonda@eotampabay.com[/et_pb_text][et_pb_text admin_label=”FILL IN EVENTS SECTION BELOW” _builder_version=”4.6.3″ _module_preset=”default” locked=”on”][/et_pb_text][et_pb_text admin_label=”ADD SAME EVENT INFO & REGISTRATION LINK TO EXCERPT BELOW & CHECK HEADER DISPLAY SIZE” _builder_version=”4.6.3″ _module_preset=”default” locked=”on”][/et_pb_text][/et_pb_column][/et_pb_row][/et_pb_section]
URL:https://eotampabay.com/event/power-lunch-in-person-nov-2020/
LOCATION:Embarc Collective\, 802 E Whiting St\, Tampa\, FL\, 33602\, United States
CATEGORIES:Power Lunch
ATTACH;FMTTYPE=image/jpeg:https://eotampabay.com/wp-content/uploads/2020/09/Embarc-Outside-960-opt.jpg
END:VEVENT
BEGIN:VEVENT
DTSTART;TZID=America/New_York:20201002T113000
DTEND;TZID=America/New_York:20201002T130000
DTSTAMP:20260424T225247
CREATED:20200924T153900Z
LAST-MODIFIED:20200924T153902Z
UID:819-1601638200-1601643600@eotampabay.com
SUMMARY:Power Lunch – In Person
DESCRIPTION:[et_pb_section fb_built=”1″ _builder_version=”4.6.3″ _module_preset=”default” background_enable_color=”off” width=”100%” custom_margin=”|0px|||false|false” custom_padding=”10px|70px||10px|false|false”][et_pb_row custom_padding_last_edited=”on|desktop” _builder_version=”4.6.3″ _module_preset=”default” background_enable_color=”off” width=”100%” custom_margin=”|auto||0px|false|false” custom_padding=”0px|||0px|false|false” custom_padding_tablet=”|||5px|false|false” custom_padding_phone=””][et_pb_column type=”4_4″ _builder_version=”4.6.0″ _module_preset=”default”][et_pb_text admin_label=”EVENT INFO AND REGISTRATION LINK & FEATURED IMAGE 960 X 540 – SELECT CATEGORY” _builder_version=”4.6.3″ _module_preset=”default” custom_padding=”|5px||0px|false|false” custom_padding_tablet=”” custom_padding_phone=”” custom_padding_last_edited=”on|tablet” hover_enabled=”0″ sticky_enabled=”0″] \nJoin us for our Power Lunch\nAn EO member panel of experts – L. J. Shaw\, Jen Bingham and Matt Brooks on how they adapted their businesses to succeed during this year and COVID. Real tips\, what worked\, what didn’t and the why’s and how’s that helped them succeed. \nThis is an indoor event. \nEach person will be at their own 6ft table.Lunch provided by ReBuilt Meals – you will need to pick your choice of meals\, once you register you will receive the menu. Individually sealed cutlery and drink bottles will be used and sanitized. \nMembers register here: https://www.eonetwork.org/member/events-and-learning/event-details?eventid=f0f2eeac-e8f9-ea11-946c-005056aa1955All non-members contact Rhonda@eotampabay.com \n[/et_pb_text][et_pb_text admin_label=”FILL IN EVENTS SECTION BELOW” _builder_version=”4.6.3″ _module_preset=”default” locked=”on”][/et_pb_text][et_pb_text admin_label=”ADD SAME EVENT INFO & REGISTRATION LINK TO EXCERPT BELOW & CHECK HEADER DISPLAY SIZE” _builder_version=”4.6.3″ _module_preset=”default” locked=”on”][/et_pb_text][/et_pb_column][/et_pb_row][/et_pb_section]
URL:https://eotampabay.com/event/power-lunch-in-person/
LOCATION:Embarc Collective\, 802 E Whiting St\, Tampa\, FL\, 33602\, United States
CATEGORIES:Power Lunch
ATTACH;FMTTYPE=image/jpeg:https://eotampabay.com/wp-content/uploads/2020/09/Embarc-Outside-960-opt.jpg
END:VEVENT
BEGIN:VEVENT
DTSTART;TZID=America/New_York:20200911T113000
DTEND;TZID=America/New_York:20200911T130000
DTSTAMP:20260424T225247
CREATED:20200908T002957Z
LAST-MODIFIED:20200924T152329Z
UID:312-1599823800-1599829200@eotampabay.com
SUMMARY:Power Lunch
DESCRIPTION:[et_pb_section fb_built=”1″ _builder_version=”4.6.3″ _module_preset=”default” background_enable_color=”off” width=”100%” custom_margin=”|0px|||false|false” custom_padding=”10px|70px||10px|false|false”][et_pb_row custom_padding_last_edited=”on|desktop” _builder_version=”4.6.3″ _module_preset=”default” background_enable_color=”off” width=”100%” custom_margin=”|auto||0px|false|false” custom_padding=”0px|||0px|false|false” custom_padding_tablet=”|||5px|false|false” custom_padding_phone=””][et_pb_column type=”4_4″ _builder_version=”4.6.0″ _module_preset=”default”][et_pb_text admin_label=”EVENT INFO AND REGISTRATION LINK & FEATURED IMAGE 960 X 540 – SELECT CATEGORY” _builder_version=”4.6.3″ _module_preset=”default” custom_padding=”|5px||0px|false|false” custom_padding_tablet=”” custom_padding_phone=”” custom_padding_last_edited=”on|tablet” hover_enabled=”0″ sticky_enabled=”0″] \nCritical Leadership Skills\nPresented byRetired U.S. Marine Corps Two Star Maj. Gen. Gregg A. Sturdevant\,Founder / CEO at Mission Critical Leadership Solutions \nWe will also be holding a tribute to the woman and men that lost their lives on 9/11 and the brave responders that risked their lives to save others. \nThis is an indoor event. \nEach person will be at their own 6ft table. \nLunch provided by ReBuilt Meals – you will need to pick your choice of meals\, once you register you will receive the menu. Individually sealed cutlery and drink bottles will be used and sanitized. \nRegister: https://www.eonetwork.org/member/events-and-learning/event-details?eventid=a388c078-ffdb-ea11-946b-005056aa1955 \n[/et_pb_text][et_pb_text admin_label=”FILL IN EVENTS SECTION BELOW” _builder_version=”4.6.3″ _module_preset=”default” locked=”on”][/et_pb_text][et_pb_text admin_label=”ADD SAME EVENT INFO & REGISTRATION LINK TO EXCERPT BELOW” _builder_version=”4.6.3″ _module_preset=”default” locked=”on”][/et_pb_text][/et_pb_column][/et_pb_row][/et_pb_section]
URL:https://eotampabay.com/event/power-lunch/
LOCATION:Embarc Collective\, 802 E Whiting St\, Tampa\, FL\, 33602\, United States
CATEGORIES:Power Lunch
ATTACH;FMTTYPE=image/jpeg:https://eotampabay.com/wp-content/uploads/2020/09/Embarc-Outside-960-opt.jpg
END:VEVENT
END:VCALENDAR