BEGIN:VCALENDAR
VERSION:2.0
PRODID:-//EO Tampabay - Accelerate Your Success - ECPv6.15.20//NONSGML v1.0//EN
CALSCALE:GREGORIAN
METHOD:PUBLISH
X-WR-CALNAME:EO Tampabay - Accelerate Your Success
X-ORIGINAL-URL:https://eotampabay.com
X-WR-CALDESC:Events for EO Tampabay - Accelerate Your Success
REFRESH-INTERVAL;VALUE=DURATION:PT1H
X-Robots-Tag:noindex
X-PUBLISHED-TTL:PT1H
BEGIN:VTIMEZONE
TZID:America/New_York
BEGIN:DAYLIGHT
TZOFFSETFROM:-0500
TZOFFSETTO:-0400
TZNAME:EDT
DTSTART:20200308T070000
END:DAYLIGHT
BEGIN:STANDARD
TZOFFSETFROM:-0400
TZOFFSETTO:-0500
TZNAME:EST
DTSTART:20201101T060000
END:STANDARD
BEGIN:DAYLIGHT
TZOFFSETFROM:-0500
TZOFFSETTO:-0400
TZNAME:EDT
DTSTART:20210314T070000
END:DAYLIGHT
BEGIN:STANDARD
TZOFFSETFROM:-0400
TZOFFSETTO:-0500
TZNAME:EST
DTSTART:20211107T060000
END:STANDARD
BEGIN:DAYLIGHT
TZOFFSETFROM:-0500
TZOFFSETTO:-0400
TZNAME:EDT
DTSTART:20220313T070000
END:DAYLIGHT
BEGIN:STANDARD
TZOFFSETFROM:-0400
TZOFFSETTO:-0500
TZNAME:EST
DTSTART:20221106T060000
END:STANDARD
BEGIN:DAYLIGHT
TZOFFSETFROM:-0500
TZOFFSETTO:-0400
TZNAME:EDT
DTSTART:20230312T070000
END:DAYLIGHT
BEGIN:STANDARD
TZOFFSETFROM:-0400
TZOFFSETTO:-0500
TZNAME:EST
DTSTART:20231105T060000
END:STANDARD
BEGIN:DAYLIGHT
TZOFFSETFROM:-0500
TZOFFSETTO:-0400
TZNAME:EDT
DTSTART:20240310T070000
END:DAYLIGHT
BEGIN:STANDARD
TZOFFSETFROM:-0400
TZOFFSETTO:-0500
TZNAME:EST
DTSTART:20241103T060000
END:STANDARD
END:VTIMEZONE
BEGIN:VEVENT
DTSTART;VALUE=DATE:20231018
DTEND;VALUE=DATE:20231022
DTSTAMP:20260424T201417
CREATED:20230731T191739Z
LAST-MODIFIED:20230731T192547Z
UID:4189-1697587200-1697932799@eotampabay.com
SUMMARY:2023 EO NERVE - Tampa Bay
DESCRIPTION:[et_pb_section fb_built=”1″ _builder_version=”4.16″ _module_preset=”default” background_enable_color=”off” width=”100%” custom_margin=”|0px|||false|false” custom_padding=”10px|70px||10px|false|false” global_colors_info=”{}”][et_pb_row custom_padding_last_edited=”on|desktop” _builder_version=”4.16″ _module_preset=”default” background_enable_color=”off” width=”100%” custom_margin=”|auto||0px|false|false” custom_padding=”0px|||0px|false|false” custom_padding_tablet=”|||5px|false|false” custom_padding_phone=”” global_colors_info=”{}”][et_pb_column type=”4_4″ _builder_version=”4.16″ _module_preset=”default” global_colors_info=”{}”][et_pb_text admin_label=”EVENT INFO AND REGISTRATION LINK & FEATURED IMAGE 960 X 540 – SELECT CATEGORY” _builder_version=”4.21.0″ _module_preset=”default” header_2_line_height=”105%” custom_padding=”|5px||0px|false|false” custom_padding_tablet=”” custom_padding_phone=”” custom_padding_last_edited=”on|tablet” header_2_line_height_tablet=”105%” header_2_line_height_phone=”105%” header_2_line_height_last_edited=”on|phone” global_colors_info=”{}”] \n2023 EO NERVE – Tampa Bay\nDate: October 18th – 21st 2023 \nTime: 4:00 PM EST \nVenue: JW Marriott Tampa Water Street \nAddress: 510 Water St\, Tampa\, FL 33602 \nGet ready to Reinvent everything at NERVE Tampa October 18-21\, 2023! Hidden treasures await as you experience an all-new NERVE! \nExplore a city full of culture and inspiration as you challenge assumptions and take new perspectives. \nRegister now and see what NERVE Reinvented is all about! \nChoose Your Journey Today. \nLast year the 1st 100 tickets sold out in 80 seconds. \nFor the first time we have two options.\nSTANDARD NERVE PASS (Register HERE)\nCurrent Price: $1\,895 \nTHE VIP PIRATE PASS (LIMITED slots available on a first come\, first serve basis) (Register HERE)\nCurrent Price: $2\,395\nEverything Standard Pass offers PLUS:\n– Reserved front of the ballroom seating for every general session\n– Private lunch event with one of the Nerve keynote speakers\n– First choice for offsite activity guaranteed\n– Guaranteed reservation for the MyEO dinner at the top Tampa restaurant\n– Guaranteed access to Tampa House Afterhours party \nHOTEL\nBook your hotel rooms HERE! \nFor event information\, please visit the EO NERVE website. \n Registration[/et_pb_text][et_pb_text admin_label=”FILL IN EVENTS SECTION BELOW” _builder_version=”4.16″ _module_preset=”default” locked=”on” global_colors_info=”{}”][/et_pb_text][et_pb_text admin_label=”ADD SAME EVENT INFO & REGISTRATION LINK TO EXCERPT BELOW & CHECK HEADER DISPLAY SIZE” _builder_version=”4.16″ _module_preset=”default” locked=”on” global_colors_info=”{}”][/et_pb_text][/et_pb_column][/et_pb_row][/et_pb_section]
URL:https://eotampabay.com/event/2023-eo-nerve-tampa-bay/
LOCATION:JW Marriott Tampa Water Street\, 510 Water Street\, Tampa\, FL\, 33602\, United States
CATEGORIES:Conference,Nerve
ATTACH;FMTTYPE=image/jpeg:https://eotampabay.com/wp-content/uploads/2023/07/2023-EO-NERVE-960.jpg
END:VEVENT
BEGIN:VEVENT
DTSTART;TZID=America/New_York:20230921T180000
DTEND;TZID=America/New_York:20230921T200000
DTSTAMP:20260424T201417
CREATED:20230731T185800Z
LAST-MODIFIED:20230731T190037Z
UID:4170-1695319200-1695326400@eotampabay.com
SUMMARY:Tampa Bay transformed - a discussion on its evolution
DESCRIPTION:[et_pb_section fb_built=”1″ _builder_version=”4.16″ _module_preset=”default” background_enable_color=”off” width=”100%” custom_margin=”|0px|||false|false” custom_padding=”10px|70px||10px|false|false” global_colors_info=”{}”][et_pb_row custom_padding_last_edited=”on|desktop” _builder_version=”4.16″ _module_preset=”default” background_enable_color=”off” width=”100%” custom_margin=”|auto||0px|false|false” custom_padding=”0px|||0px|false|false” custom_padding_tablet=”|||5px|false|false” custom_padding_phone=”” global_colors_info=”{}”][et_pb_column type=”4_4″ _builder_version=”4.16″ _module_preset=”default” global_colors_info=”{}”][et_pb_text admin_label=”EVENT INFO AND REGISTRATION LINK & FEATURED IMAGE 960 X 540 – SELECT CATEGORY” _builder_version=”4.21.0″ _module_preset=”default” header_2_line_height=”105%” custom_padding=”|5px||0px|false|false” custom_padding_tablet=”” custom_padding_phone=”” custom_padding_last_edited=”on|tablet” hover_enabled=”0″ header_2_line_height_tablet=”105%” header_2_line_height_phone=”105%” header_2_line_height_last_edited=”on|phone” global_colors_info=”{}” sticky_enabled=”0″] \nTampa Bay transformed – a discussion on its evolution\nDate: September 21st 2023Time: 6:00 PM – 8:00 PMVenue: Embarc CollectiveAddress: 802 E Whiting St. Tampa Fl 33602 \nWe welcome you to this PRE-NERVE learning and social as we get the opportunity to experience : Tampa Bay transformed- a discussion on its evolution into a hub for innovation andgrowth. – Presented byEntrepreneurs Organization of Tampa Bay \nInvitations sent via Green Envelope \nPLEASE RSVP NO LATER THE WEDNESDAY SEPT. 13th \n Registration \n[/et_pb_text][et_pb_text admin_label=”FILL IN EVENTS SECTION BELOW” _builder_version=”4.16″ _module_preset=”default” locked=”on” global_colors_info=”{}”][/et_pb_text][et_pb_text admin_label=”ADD SAME EVENT INFO & REGISTRATION LINK TO EXCERPT BELOW & CHECK HEADER DISPLAY SIZE” _builder_version=”4.16″ _module_preset=”default” locked=”on” global_colors_info=”{}”][/et_pb_text][/et_pb_column][/et_pb_row][/et_pb_section]
URL:https://eotampabay.com/event/tampa-bay-transformed-a-discussion-on-its-evolution/
LOCATION:Embarc Collective\, 802 E Whiting St\, Tampa\, FL\, 33602\, United States
CATEGORIES:Conference,Nerve
ATTACH;FMTTYPE=image/jpeg:https://eotampabay.com/wp-content/uploads/2023/07/Pre-Nerve-invitation-960.jpg
END:VEVENT
BEGIN:VEVENT
DTSTART;VALUE=DATE:20220927
DTEND;VALUE=DATE:20220930
DTSTAMP:20260424T201417
CREATED:20220726T003416Z
LAST-MODIFIED:20220803T135650Z
UID:3170-1664236800-1664495999@eotampabay.com
SUMMARY:EO NERVE 2022 - Southeast Virginia
DESCRIPTION:[et_pb_section fb_built=”1″ _builder_version=”4.16″ _module_preset=”default” background_enable_color=”off” width=”100%” custom_margin=”|0px|||false|false” custom_padding=”10px|70px||10px|false|false” global_colors_info=”{}”][et_pb_row custom_padding_last_edited=”on|desktop” _builder_version=”4.16″ _module_preset=”default” background_enable_color=”off” width=”100%” custom_margin=”|auto||0px|false|false” custom_padding=”0px|||0px|false|false” custom_padding_tablet=”|||5px|false|false” custom_padding_phone=”” global_colors_info=”{}”][et_pb_column type=”4_4″ _builder_version=”4.16″ _module_preset=”default” global_colors_info=”{}”][et_pb_text admin_label=”EVENT INFO AND REGISTRATION LINK & FEATURED IMAGE 960 X 540 – SELECT CATEGORY” _builder_version=”4.17.6″ _module_preset=”default” header_2_line_height=”105%” custom_padding=”|5px||0px|false|false” custom_padding_tablet=”” custom_padding_phone=”” custom_padding_last_edited=”on|tablet” header_2_line_height_tablet=”105%” header_2_line_height_phone=”105%” header_2_line_height_last_edited=”on|phone” global_colors_info=”{}”] \nEO NERVE 2022 – Southeast Virginia\nDate: September 27-29\, 2022 11:30 PM (GMT-05:00) Eastern Time (US & Canada)Venue: Southeast Virginia \n“Successful people are always thinking about what they need to do in order to get to the next level” – Maria Bartiromo \nWhen you’re a beginner\, inspiration and energy seem to go with the territory. \nBut when you’re a successful entrepreneur? Not so much. \nIn fact\, the higher you climb\, the harder it becomes to find truly new and meaningful insights and ideas. And the easier it is to plateau instead of taking things to the next level. \nThat’s why you won’t want to miss next year’s EO Nerve Level Up 2022. \nWe’re combing the country for a high-energy line-up of speakers who personify the terms expertise and excellence. Preparing a thought-provoking slate of panels and presentations that are expressly designed to help re-fire your neurons and replenish your sense of purpose. And topping it all off with an imaginatively entertaining collection of ‘20s-style theme parties and networking events (and not to mention beach cocktails) that you’ll have to see to believe. \nBest of all\, we’re bringing it all to the stunning coastal community of Virginia Beach. Enjoy the beach at the Marriott Oceanfront\, plus bask in the timeless elegance of the legendary Cavalier Hotel. \nDon’t miss out on the chance to give your knowledge\, connections and career path the high-caliber levels of attention they deserve. And let’s grow and “Level Up” together. \nRegister now at the price of $2\,050 for members and $1\,650 for guests. \nBook your hotel stay now: https://www.eonerve.com/hotel/ \nFor questions\, please email eonerve@eonetwork.org \nRegistraion: CLICK HERE \nView Event Website \n[/et_pb_text][et_pb_text admin_label=”FILL IN EVENTS SECTION BELOW” _builder_version=”4.16″ _module_preset=”default” locked=”on” global_colors_info=”{}”][/et_pb_text][et_pb_text admin_label=”ADD SAME EVENT INFO & REGISTRATION LINK TO EXCERPT BELOW & CHECK HEADER DISPLAY SIZE” _builder_version=”4.16″ _module_preset=”default” locked=”on” global_colors_info=”{}”][/et_pb_text][/et_pb_column][/et_pb_row][/et_pb_section]
URL:https://eotampabay.com/event/eo-nerve-2022-southeast-virginia/
LOCATION:EO Charlotte\, United States
CATEGORIES:Conference,Nerve
ATTACH;FMTTYPE=image/jpeg:https://eotampabay.com/wp-content/uploads/2022/07/Level-Up-opt.jpg
END:VEVENT
BEGIN:VEVENT
DTSTART;VALUE=DATE:20211020
DTEND;VALUE=DATE:20211023
DTSTAMP:20260424T201417
CREATED:20210818T191424Z
LAST-MODIFIED:20210929T175118Z
UID:1766-1634688000-1634947199@eotampabay.com
SUMMARY:NERVE – US East Regional Conference
DESCRIPTION:[et_pb_section fb_built=”1″ _builder_version=”4.6.3″ _module_preset=”default” background_enable_color=”off” width=”100%” custom_margin=”|0px|||false|false” custom_padding=”10px|70px||10px|false|false” global_colors_info=”{}”][et_pb_row custom_padding_last_edited=”on|desktop” _builder_version=”4.6.3″ _module_preset=”default” background_enable_color=”off” width=”100%” custom_margin=”|auto||0px|false|false” custom_padding=”0px|||0px|false|false” custom_padding_tablet=”|||5px|false|false” custom_padding_phone=”” global_colors_info=”{}”][et_pb_column type=”4_4″ _builder_version=”4.6.0″ _module_preset=”default” global_colors_info=”{}”][et_pb_text admin_label=”EVENT INFO AND REGISTRATION LINK & FEATURED IMAGE 960 X 540 – SELECT CATEGORY” _builder_version=”4.10.0″ _module_preset=”default” header_2_line_height=”105%” custom_padding=”|5px||0px|false|false” custom_padding_tablet=”” custom_padding_phone=”” custom_padding_last_edited=”on|tablet” hover_enabled=”0″ header_2_line_height_tablet=”105%” header_2_line_height_phone=”105%” header_2_line_height_last_edited=”on|phone” global_colors_info=”{}” sticky_enabled=”0″] \nNERVE – US East Regional Conference\nSee https://www.eonerve.com/ for event registration and hotel booking link or email eonerve@eonetwork.org for questions \n[/et_pb_text][et_pb_text admin_label=”FILL IN EVENTS SECTION BELOW” _builder_version=”4.6.3″ _module_preset=”default” locked=”on” global_colors_info=”{}”][/et_pb_text][et_pb_text admin_label=”ADD SAME EVENT INFO & REGISTRATION LINK TO EXCERPT BELOW & CHECK HEADER DISPLAY SIZE” _builder_version=”4.6.3″ _module_preset=”default” locked=”on” global_colors_info=”{}”][/et_pb_text][/et_pb_column][/et_pb_row][/et_pb_section]
URL:https://eotampabay.com/event/nerve-us-east-regional-conference/
LOCATION:FL
CATEGORIES:Conference,Nerve
ATTACH;FMTTYPE=image/png:https://eotampabay.com/wp-content/uploads/2021/08/NERVE-Conference-opt.png
END:VEVENT
END:VCALENDAR