BEGIN:VCALENDAR
VERSION:2.0
PRODID:-//EO Tampabay - Accelerate Your Success - ECPv6.15.20//NONSGML v1.0//EN
CALSCALE:GREGORIAN
METHOD:PUBLISH
X-WR-CALNAME:EO Tampabay - Accelerate Your Success
X-ORIGINAL-URL:https://eotampabay.com
X-WR-CALDESC:Events for EO Tampabay - Accelerate Your Success
REFRESH-INTERVAL;VALUE=DURATION:PT1H
X-Robots-Tag:noindex
X-PUBLISHED-TTL:PT1H
BEGIN:VTIMEZONE
TZID:America/New_York
BEGIN:DAYLIGHT
TZOFFSETFROM:-0500
TZOFFSETTO:-0400
TZNAME:EDT
DTSTART:20220313T070000
END:DAYLIGHT
BEGIN:STANDARD
TZOFFSETFROM:-0400
TZOFFSETTO:-0500
TZNAME:EST
DTSTART:20221106T060000
END:STANDARD
BEGIN:DAYLIGHT
TZOFFSETFROM:-0500
TZOFFSETTO:-0400
TZNAME:EDT
DTSTART:20230312T070000
END:DAYLIGHT
BEGIN:STANDARD
TZOFFSETFROM:-0400
TZOFFSETTO:-0500
TZNAME:EST
DTSTART:20231105T060000
END:STANDARD
BEGIN:DAYLIGHT
TZOFFSETFROM:-0500
TZOFFSETTO:-0400
TZNAME:EDT
DTSTART:20240310T070000
END:DAYLIGHT
BEGIN:STANDARD
TZOFFSETFROM:-0400
TZOFFSETTO:-0500
TZNAME:EST
DTSTART:20241103T060000
END:STANDARD
END:VTIMEZONE
BEGIN:VEVENT
DTSTART;TZID=America/New_York:20231206T083000
DTEND;TZID=America/New_York:20231206T120000
DTSTAMP:20260424T231612
CREATED:20231024T003447Z
LAST-MODIFIED:20231024T012933Z
UID:4500-1701851400-1701864000@eotampabay.com
SUMMARY:How to be Ready and Grow Through Your Next Inflection Point
DESCRIPTION:[et_pb_section fb_built=”1″ _builder_version=”4.16″ _module_preset=”default” background_enable_color=”off” width=”100%” custom_margin=”|0px|||false|false” custom_padding=”10px|70px||10px|false|false” global_colors_info=”{}”][et_pb_row custom_padding_last_edited=”on|desktop” _builder_version=”4.16″ _module_preset=”default” background_enable_color=”off” width=”100%” custom_margin=”|auto||0px|false|false” custom_padding=”0px|||0px|false|false” custom_padding_tablet=”|||5px|false|false” custom_padding_phone=”” global_colors_info=”{}”][et_pb_column type=”4_4″ _builder_version=”4.16″ _module_preset=”default” global_colors_info=”{}”][et_pb_text admin_label=”EVENT INFO AND REGISTRATION LINK & FEATURED IMAGE 960 X 540 – SELECT CATEGORY” _builder_version=”4.23″ _module_preset=”default” header_2_line_height=”105%” custom_padding=”|5px||0px|false|false” custom_padding_tablet=”” custom_padding_phone=”” custom_padding_last_edited=”on|tablet” header_2_line_height_tablet=”105%” header_2_line_height_phone=”105%” header_2_line_height_last_edited=”on|phone” global_colors_info=”{}”] \nHow to be Ready and Grow Through Your Next Inflection Point\nDate: December 6 2023Time: 8:30 AM (GMT-05:00) Eastern Time (US & Canada)Venue: Aprio\, LLPLocation: Atlanta\, Georgia\, United States \nJoin us for an insightful morning of breakfast and business wisdom as we explore the strategies and insights that can prepare your company for its next inflection point. Hosted by Aprio\, a trusted partner to thousands of growth-oriented companies\, this event will provide you with valuable knowledge to navigate the challenges and opportunities that lie ahead.! \n Registration \n[/et_pb_text][et_pb_text admin_label=”FILL IN EVENTS SECTION BELOW” _builder_version=”4.16″ _module_preset=”default” locked=”on” global_colors_info=”{}”][/et_pb_text][et_pb_text admin_label=”ADD SAME EVENT INFO & REGISTRATION LINK TO EXCERPT BELOW & CHECK HEADER DISPLAY SIZE” _builder_version=”4.16″ _module_preset=”default” locked=”on” global_colors_info=”{}”][/et_pb_text][/et_pb_column][/et_pb_row][/et_pb_section]
URL:https://eotampabay.com/event/how-to-be-ready-and-grow-through-your-next-inflection-point/
LOCATION:Atlanta\, Georgia\, GA\, United States
CATEGORIES:Breakfast & Business
ATTACH;FMTTYPE=image/jpeg:https://eotampabay.com/wp-content/uploads/2023/10/Aprio.jpg
END:VEVENT
END:VCALENDAR